BEGIN:VCALENDAR
VERSION:2.0
PRODID:-//Plone.org//NONSGML plone.app.event//EN
X-WR-TIMEZONE:Brazil/East
BEGIN:VEVENT
SUMMARY:SESSÃO ESPECIAL EM HOMENAGEM AO GOIÂNIA ESPORTE CLUBE.
DTSTART;TZID=Brazil/East;VALUE=DATE-TIME:20210705T170000
DTEND;TZID=Brazil/East;VALUE=DATE-TIME:20210705T180000
DTSTAMP;VALUE=DATE-TIME:20260420T063306Z
UID:1be537037aaa41bea57d30ac32aac254@www.goiania.go.leg.br
CONTACT:VEREADOR CABO SENNA
CREATED;VALUE=DATE-TIME:20210205T123504Z
LAST-MODIFIED;VALUE=DATE-TIME:20210514T133556Z
LOCATION:PLENÁRIO TRAJANO GUIMARÃES
URL:https://www.goiania.go.leg.br/sala-de-imprensa/eventos/sessao-especial
 -em-homenagem-ao-goiania-esporte-clube
END:VEVENT
BEGIN:VTIMEZONE
TZID:Brazil/East
X-LIC-LOCATION:Brazil/East
BEGIN:STANDARD
DTSTART;VALUE=DATE-TIME:20210220T230000
TZNAME:BRT
TZOFFSETFROM:-0200
TZOFFSETTO:-0300
END:STANDARD
END:VTIMEZONE
END:VCALENDAR
