BEGIN:VCALENDAR
VERSION:2.0
PRODID:-//Plone.org//NONSGML plone.app.event//EN
X-WR-TIMEZONE:Brazil/East
BEGIN:VEVENT
SUMMARY:SESSÃO ESPECIAL EM HOMENAGEM  AO FISIOTERAPEUTA E TERAPEUTA OCUPA
 CIONAL.
DTSTART;TZID=Brazil/East;VALUE=DATE-TIME:20251022T170000
DTEND;TZID=Brazil/East;VALUE=DATE-TIME:20251022T190000
DTSTAMP;VALUE=DATE-TIME:20260420T024505Z
UID:c3b9d7f2620e4588abd21dda2c41d1ac@www.goiania.go.leg.br
CONTACT:VEREADOR THIALU GUIOTTI E DR. GUSTAVO
CREATED;VALUE=DATE-TIME:20250212T142803Z
LAST-MODIFIED;VALUE=DATE-TIME:20250903T142006Z
LOCATION:PLENÁRIO TRAJANO GUIMARÃES
URL:https://www.goiania.go.leg.br/sala-de-imprensa/eventos/sessao-especial
 -em-homenagem-ao-fisioterapeuta-e-terapeuta-ocupacional
END:VEVENT
BEGIN:VTIMEZONE
TZID:Brazil/East
X-LIC-LOCATION:Brazil/East
BEGIN:DAYLIGHT
DTSTART;VALUE=DATE-TIME:20251019T010000
TZNAME:BRST
TZOFFSETFROM:-0300
TZOFFSETTO:-0200
END:DAYLIGHT
END:VTIMEZONE
END:VCALENDAR
