BEGIN:VCALENDAR
VERSION:2.0
PRODID:-//Plone.org//NONSGML plone.app.event//EN
X-WR-TIMEZONE:Brazil/East
BEGIN:VEVENT
SUMMARY:SESSÃO ESPECIAL EM HOMENAGEM AO EMPREENDEDOR INOVADOR.
DTSTART;TZID=Brazil/East;VALUE=DATE-TIME:20261014T190000
DTEND;TZID=Brazil/East;VALUE=DATE-TIME:20261014T220000
DTSTAMP;VALUE=DATE-TIME:20260419T120357Z
UID:c34bd57efc6749b9aae5c86f7697f159@www.goiania.go.leg.br
CONTACT:VEREADORA LÉIA KLEBIA
CREATED;VALUE=DATE-TIME:20260311T123509Z
LAST-MODIFIED;VALUE=DATE-TIME:20260311T123606Z
LOCATION:PLENÁRIO TRAJANO GUIMARÃES
URL:https://www.goiania.go.leg.br/sala-de-imprensa/eventos/sessao-especial
 -em-homenagem-ao-empreendedor-inovador
END:VEVENT
BEGIN:VTIMEZONE
TZID:Brazil/East
X-LIC-LOCATION:Brazil/East
BEGIN:STANDARD
DTSTART;VALUE=DATE-TIME:20260221T230000
TZNAME:BRT
TZOFFSETFROM:-0200
TZOFFSETTO:-0300
END:STANDARD
END:VTIMEZONE
END:VCALENDAR
