BEGIN:VCALENDAR
VERSION:2.0
PRODID:-//Plone.org//NONSGML plone.app.event//EN
X-WR-TIMEZONE:Brazil/East
BEGIN:VEVENT
SUMMARY:SESSÃO ESPECIAL EM HOMENAGEM AO EMPREENDEDOR EM DESTAQUE.
DTSTART;TZID=Brazil/East;VALUE=DATE-TIME:20260811T170000
DTEND;TZID=Brazil/East;VALUE=DATE-TIME:20260811T190000
DTSTAMP;VALUE=DATE-TIME:20260420T144013Z
UID:6ca1b17ece04430a8a9f39b1f084d4fe@www.goiania.go.leg.br
CONTACT:VEREADOR CABO SENNA
CREATED;VALUE=DATE-TIME:20260202T142800Z
LAST-MODIFIED;VALUE=DATE-TIME:20260202T142818Z
LOCATION:AUDITÓRIO JAIME CÂMARA
URL:https://www.goiania.go.leg.br/sala-de-imprensa/eventos/sessao-especial
 -em-homenagem-ao-empreendedor-em-destaque
END:VEVENT
BEGIN:VTIMEZONE
TZID:Brazil/East
X-LIC-LOCATION:Brazil/East
BEGIN:STANDARD
DTSTART;VALUE=DATE-TIME:20260221T230000
TZNAME:BRT
TZOFFSETFROM:-0200
TZOFFSETTO:-0300
END:STANDARD
END:VTIMEZONE
END:VCALENDAR
