BEGIN:VCALENDAR
VERSION:2.0
PRODID:-//Plone.org//NONSGML plone.app.event//EN
X-WR-TIMEZONE:Brazil/East
BEGIN:VEVENT
SUMMARY:SESSÃO ESPECIAL EM HOMENAGEM AO EMPREENDEDOR DESTAQUE.
DTSTART;TZID=Brazil/East;VALUE=DATE-TIME:20260819T170000
DTEND;TZID=Brazil/East;VALUE=DATE-TIME:20260819T190000
DTSTAMP;VALUE=DATE-TIME:20260421T212233Z
UID:19d3570491924802893a958511b8d9e1@www.goiania.go.leg.br
CONTACT:VEREADOR CABO SENNA
CREATED;VALUE=DATE-TIME:20260210T151520Z
LAST-MODIFIED;VALUE=DATE-TIME:20260210T151537Z
LOCATION:AUDITÓRIO JAIME CÂMARA
URL:https://www.goiania.go.leg.br/sala-de-imprensa/eventos/sessao-especial
 -em-homenagem-ao-empreendedor-destaque
END:VEVENT
BEGIN:VTIMEZONE
TZID:Brazil/East
X-LIC-LOCATION:Brazil/East
BEGIN:STANDARD
DTSTART;VALUE=DATE-TIME:20260221T230000
TZNAME:BRT
TZOFFSETFROM:-0200
TZOFFSETTO:-0300
END:STANDARD
END:VTIMEZONE
END:VCALENDAR
