BEGIN:VCALENDAR
VERSION:2.0
PRODID:-//Plone.org//NONSGML plone.app.event//EN
X-WR-TIMEZONE:Brazil/East
BEGIN:VEVENT
SUMMARY:SESSÃO ESPECIAL EM HOMENAGEM AO DIA DO PROFESSOR.
DTSTART;TZID=Brazil/East;VALUE=DATE-TIME:20261015T190000
DTEND;TZID=Brazil/East;VALUE=DATE-TIME:20261015T220000
DTSTAMP;VALUE=DATE-TIME:20260421T193949Z
UID:5840790e0ee84a68a2718dce4edf31cf@www.goiania.go.leg.br
CONTACT:VEREADOR TIÃO PEIXOTO
CREATED;VALUE=DATE-TIME:20260203T112709Z
LAST-MODIFIED;VALUE=DATE-TIME:20260203T113300Z
LOCATION:PLENÁRIO TRAJANO GUIMARÃES
URL:https://www.goiania.go.leg.br/sala-de-imprensa/eventos/sessao-especial
 -em-homenagem-ao-do-professor
END:VEVENT
BEGIN:VTIMEZONE
TZID:Brazil/East
X-LIC-LOCATION:Brazil/East
BEGIN:STANDARD
DTSTART;VALUE=DATE-TIME:20260221T230000
TZNAME:BRT
TZOFFSETFROM:-0200
TZOFFSETTO:-0300
END:STANDARD
END:VTIMEZONE
END:VCALENDAR
