BEGIN:VCALENDAR
VERSION:2.0
PRODID:-//Plone.org//NONSGML plone.app.event//EN
X-WR-TIMEZONE:Brazil/East
BEGIN:VEVENT
SUMMARY:SESSÃO ESPECIAL EM HOMENAGEM AOS ENFERMEIROS DO HUGOL.
DTSTART;TZID=Brazil/East;VALUE=DATE-TIME:20230922T170000
DTEND;TZID=Brazil/East;VALUE=DATE-TIME:20230922T190000
DTSTAMP;VALUE=DATE-TIME:20260420T082213Z
UID:f132c68d42ae49e4ab345f3022eddb2c@www.goiania.go.leg.br
CONTACT:VEREADOR BESSA
CREATED;VALUE=DATE-TIME:20230207T121517Z
LAST-MODIFIED;VALUE=DATE-TIME:20230815T121201Z
LOCATION:PLENÁRIO TRAJANO GUIMARÃES
URL:https://www.goiania.go.leg.br/sala-de-imprensa/eventos/sessao-especial
 -em-homenagem-ao-dia-naiconal-da-doacao-de-orgaos
END:VEVENT
BEGIN:VTIMEZONE
TZID:Brazil/East
X-LIC-LOCATION:Brazil/East
BEGIN:STANDARD
DTSTART;VALUE=DATE-TIME:20230225T230000
TZNAME:BRT
TZOFFSETFROM:-0200
TZOFFSETTO:-0300
END:STANDARD
END:VTIMEZONE
END:VCALENDAR
