BEGIN:VCALENDAR
VERSION:2.0
PRODID:-//Plone.org//NONSGML plone.app.event//EN
X-WR-TIMEZONE:Brazil/East
BEGIN:VEVENT
SUMMARY:SESSÃO ESPECIAL EM HOMENAGEM AO DIA NACIONAL DO VOLUNTARIADO.
DTSTART;TZID=Brazil/East;VALUE=DATE-TIME:20190913T193000
DTEND;TZID=Brazil/East;VALUE=DATE-TIME:20190913T220000
DTSTAMP;VALUE=DATE-TIME:20260420T024452Z
UID:4b7a601492cc42a9aba53ede5643d0b6@www.goiania.go.leg.br
CONTACT:VEREADOR EMILSON PEREIRA
CREATED;VALUE=DATE-TIME:20190801T113633Z
LAST-MODIFIED;VALUE=DATE-TIME:20190801T113643Z
LOCATION:PLENÁRIO TRAJANO GUIMARÃES
URL:https://www.goiania.go.leg.br/sala-de-imprensa/eventos/sessao-especial
 -em-homenagem-ao-dia-nacional-do-voluntariado
END:VEVENT
BEGIN:VTIMEZONE
TZID:Brazil/East
X-LIC-LOCATION:Brazil/East
BEGIN:STANDARD
DTSTART;VALUE=DATE-TIME:20190216T230000
TZNAME:BRT
TZOFFSETFROM:-0200
TZOFFSETTO:-0300
END:STANDARD
END:VTIMEZONE
END:VCALENDAR
