BEGIN:VCALENDAR
VERSION:2.0
PRODID:-//Plone.org//NONSGML plone.app.event//EN
X-WR-TIMEZONE:Brazil/East
BEGIN:VEVENT
SUMMARY:SESSÃO ESPECIAL EM HOMENAGEM AO DIA NACIONAL DO CICLISTA.
DTSTART;TZID=Brazil/East;VALUE=DATE-TIME:20220824T170000
DTEND;TZID=Brazil/East;VALUE=DATE-TIME:20220824T190000
DTSTAMP;VALUE=DATE-TIME:20260419T104753Z
UID:07cd030d2bee486c89ef5ce5b27b68c9@www.goiania.go.leg.br
CONTACT:VEREADOR LUCAS KITÃO
CREATED;VALUE=DATE-TIME:20220114T133037Z
LAST-MODIFIED;VALUE=DATE-TIME:20220816T124146Z
LOCATION:PLENÁRIO TRAJANO GUIMARÃES
URL:https://www.goiania.go.leg.br/sala-de-imprensa/eventos/sessao-especial
 -em-homenagem-ao-dia-nacional-do-ciclista
END:VEVENT
BEGIN:VTIMEZONE
TZID:Brazil/East
X-LIC-LOCATION:Brazil/East
BEGIN:STANDARD
DTSTART;VALUE=DATE-TIME:20220219T230000
TZNAME:BRT
TZOFFSETFROM:-0200
TZOFFSETTO:-0300
END:STANDARD
END:VTIMEZONE
END:VCALENDAR
