BEGIN:VCALENDAR
VERSION:2.0
PRODID:-//Plone.org//NONSGML plone.app.event//EN
X-WR-TIMEZONE:Brazil/East
BEGIN:VEVENT
SUMMARY:SESSÃO ESPECIAL EM HOMENAGEM AO DIA NACIONAL DE COMBATE AO CÂNCE
 R.
DTSTART;TZID=Brazil/East;VALUE=DATE-TIME:20191125T193000
DTEND;TZID=Brazil/East;VALUE=DATE-TIME:20191125T220000
DTSTAMP;VALUE=DATE-TIME:20260421T112219Z
UID:b0c038dc08524d82b6a6a8aed83d0bbe@www.goiania.go.leg.br
CONTACT:VEREADOR DR. GIAN
CREATED;VALUE=DATE-TIME:20191003T123511Z
LAST-MODIFIED;VALUE=DATE-TIME:20191003T123530Z
LOCATION:PLENÁRIO TRAJANO GUIMARÃES
URL:https://www.goiania.go.leg.br/sala-de-imprensa/eventos/sessao-especial
 -em-homenagem-ao-dia-nacional-de-combate-ao-cancer
END:VEVENT
BEGIN:VTIMEZONE
TZID:Brazil/East
X-LIC-LOCATION:Brazil/East
BEGIN:DAYLIGHT
DTSTART;VALUE=DATE-TIME:20191020T010000
TZNAME:BRST
TZOFFSETFROM:-0300
TZOFFSETTO:-0200
END:DAYLIGHT
END:VTIMEZONE
END:VCALENDAR
