BEGIN:VCALENDAR
VERSION:2.0
PRODID:-//Plone.org//NONSGML plone.app.event//EN
X-WR-TIMEZONE:Brazil/East
BEGIN:VEVENT
SUMMARY:SESSÃO ESPECIAL EM HOMENAGEM AO DIA NACIONAL DA SAÚDE.
DTSTART;TZID=Brazil/East;VALUE=DATE-TIME:20200805T170000
DTEND;TZID=Brazil/East;VALUE=DATE-TIME:20200805T190000
DTSTAMP;VALUE=DATE-TIME:20260421T095605Z
UID:4abe649ce5d44e5ea831674790f50e85@www.goiania.go.leg.br
CONTACT:VEREADORA DRA. CRISTINA LOPES AFONSO
CREATED;VALUE=DATE-TIME:20200210T134508Z
LAST-MODIFIED;VALUE=DATE-TIME:20200803T134137Z
LOCATION:PLENÁRIO TRAJANO GUIMARÃES
URL:https://www.goiania.go.leg.br/sala-de-imprensa/eventos/sessao-especial
 -em-homenagem-ao-dia-nacional-da-saude-2
END:VEVENT
BEGIN:VTIMEZONE
TZID:Brazil/East
X-LIC-LOCATION:Brazil/East
BEGIN:STANDARD
DTSTART;VALUE=DATE-TIME:20200215T230000
TZNAME:BRT
TZOFFSETFROM:-0200
TZOFFSETTO:-0300
END:STANDARD
END:VTIMEZONE
END:VCALENDAR
