BEGIN:VCALENDAR
VERSION:2.0
PRODID:-//Plone.org//NONSGML plone.app.event//EN
X-WR-TIMEZONE:Brazil/East
BEGIN:VEVENT
SUMMARY:SESSÃO ESPECIAL EM HOMENAGEM AO DIA MUNICIPAL DO CINEMA E DO PATR
 IMÔNIO AUDIOVISUAL.
DTSTART;TZID=Brazil/East;VALUE=DATE-TIME:20251017T090000
DTEND;TZID=Brazil/East;VALUE=DATE-TIME:20251017T120000
DTSTAMP;VALUE=DATE-TIME:20260421T070625Z
UID:942a69541817489e82c44fdbca2f72d3@www.goiania.go.leg.br
CONTACT:VEREADOR PROFESSOR EDWARD
CREATED;VALUE=DATE-TIME:20250903T205327Z
LAST-MODIFIED;VALUE=DATE-TIME:20250903T205339Z
LOCATION:PLENÁRIO TRAJANO GUIMARÃES
URL:https://www.goiania.go.leg.br/sala-de-imprensa/eventos/sessao-especial
 -em-homenagem-ao-dia-municipal-do-cinema-e-do-patrimonio-audiovisual
END:VEVENT
BEGIN:VTIMEZONE
TZID:Brazil/East
X-LIC-LOCATION:Brazil/East
BEGIN:STANDARD
DTSTART;VALUE=DATE-TIME:20250215T230000
TZNAME:BRT
TZOFFSETFROM:-0200
TZOFFSETTO:-0300
END:STANDARD
END:VTIMEZONE
END:VCALENDAR
