BEGIN:VCALENDAR
VERSION:2.0
PRODID:-//Plone.org//NONSGML plone.app.event//EN
X-WR-TIMEZONE:Brazil/East
BEGIN:VEVENT
SUMMARY:SESSÃO ESPECIAL EM HOMENAGEM  AO DIA MUNICIPAL DA ADVOCACIA TRABA
 LHISTA.
DTSTART;TZID=Brazil/East;VALUE=DATE-TIME:20230301T170000
DTEND;TZID=Brazil/East;VALUE=DATE-TIME:20230301T190000
DTSTAMP;VALUE=DATE-TIME:20260419T174451Z
UID:f73bc5d82ce24598b8fa62ea04218f55@www.goiania.go.leg.br
CONTACT:VEREADOR WILLIAN VELOSO
CREATED;VALUE=DATE-TIME:20230202T143422Z
LAST-MODIFIED;VALUE=DATE-TIME:20230202T143520Z
LOCATION:PLENÁRIO TRAJANO GUIMARÃES
URL:https://www.goiania.go.leg.br/sala-de-imprensa/eventos/sessao-especial
 -em-homenagem-ao-dia-municipal-da-advocacia-trabalhista
END:VEVENT
BEGIN:VTIMEZONE
TZID:Brazil/East
X-LIC-LOCATION:Brazil/East
BEGIN:STANDARD
DTSTART;VALUE=DATE-TIME:20230225T230000
TZNAME:BRT
TZOFFSETFROM:-0200
TZOFFSETTO:-0300
END:STANDARD
END:VTIMEZONE
END:VCALENDAR
