BEGIN:VCALENDAR
VERSION:2.0
PRODID:-//Plone.org//NONSGML plone.app.event//EN
X-WR-TIMEZONE:Brazil/East
BEGIN:VEVENT
SUMMARY:SESSÃO ESPECIAL EM HOMENAGEM AO DIA MUNDIAL DO TURISMO.
DTSTART;TZID=Brazil/East;VALUE=DATE-TIME:20200923T170000
DTEND;TZID=Brazil/East;VALUE=DATE-TIME:20200923T210000
DTSTAMP;VALUE=DATE-TIME:20260420T131857Z
UID:1aea7052ada94a07ac8b75609c7f9229@www.goiania.go.leg.br
CONTACT:VEREADORA DRA. CRISTINA LOPES AFONSO
CREATED;VALUE=DATE-TIME:20200826T202324Z
LAST-MODIFIED;VALUE=DATE-TIME:20200826T202415Z
LOCATION:PLENÁRIO TRAJANO GUIMARÃES
URL:https://www.goiania.go.leg.br/sala-de-imprensa/eventos/sessao-especial
 -em-homenagem-ao-dia-mundial-do-turismo-1
END:VEVENT
BEGIN:VTIMEZONE
TZID:Brazil/East
X-LIC-LOCATION:Brazil/East
BEGIN:STANDARD
DTSTART;VALUE=DATE-TIME:20200215T230000
TZNAME:BRT
TZOFFSETFROM:-0200
TZOFFSETTO:-0300
END:STANDARD
END:VTIMEZONE
END:VCALENDAR
