BEGIN:VCALENDAR
VERSION:2.0
PRODID:-//Plone.org//NONSGML plone.app.event//EN
X-WR-TIMEZONE:Brazil/East
BEGIN:VEVENT
SUMMARY:SESSÃO ESPECIAL EM HOMENAGEM AO DIA MUNDIAL DE CINSCIENTIZAÇÃO 
 DO AUTISMO.
DTSTART;TZID=Brazil/East;VALUE=DATE-TIME:20250402T170000
DTEND;TZID=Brazil/East;VALUE=DATE-TIME:20250402T190000
DTSTAMP;VALUE=DATE-TIME:20260420T144416Z
UID:36f490f57002447bb7e1c907fb0b1696@www.goiania.go.leg.br
CONTACT:VEREADOR RONILSON REIS
CREATED;VALUE=DATE-TIME:20250210T131721Z
LAST-MODIFIED;VALUE=DATE-TIME:20250212T130908Z
LOCATION:PLENÁRIO TRAJANO GUIMARÃES
URL:https://www.goiania.go.leg.br/sala-de-imprensa/eventos/sessao-especial
 -em-homenagem-ao-dia-mundial-de-cinscientizacao-do-autismo
END:VEVENT
BEGIN:VTIMEZONE
TZID:Brazil/East
X-LIC-LOCATION:Brazil/East
BEGIN:STANDARD
DTSTART;VALUE=DATE-TIME:20250215T230000
TZNAME:BRT
TZOFFSETFROM:-0200
TZOFFSETTO:-0300
END:STANDARD
END:VTIMEZONE
END:VCALENDAR
