BEGIN:VCALENDAR
VERSION:2.0
PRODID:-//Plone.org//NONSGML plone.app.event//EN
X-WR-TIMEZONE:Brazil/East
BEGIN:VEVENT
SUMMARY:SESSÃO ESPECIAL EM HOMENAGEM AO DIA MUNDIAL DA DOAÇÃO DE ÓRGÃ
 OS E TECIDOS PARA TRANSPLANTES.
DTSTART;TZID=Brazil/East;VALUE=DATE-TIME:20190926T193000
DTEND;TZID=Brazil/East;VALUE=DATE-TIME:20190926T220000
DTSTAMP;VALUE=DATE-TIME:20260420T144347Z
UID:e26be93d397b4d8eaf716f2c6f0a36bf@www.goiania.go.leg.br
CONTACT:VEREADORA DRA. CRISTINA LOPES AFONSO
CREATED;VALUE=DATE-TIME:20190628T115725Z
LAST-MODIFIED;VALUE=DATE-TIME:20190628T115741Z
LOCATION:PLENÁRIO TRAJANO GUIMARÃES
URL:https://www.goiania.go.leg.br/sala-de-imprensa/eventos/sessao-especial
 -em-homenagem-ao-dia-mundial-da-doacao-de-orgaos-e-tecidos-para-transplant
 es
END:VEVENT
BEGIN:VTIMEZONE
TZID:Brazil/East
X-LIC-LOCATION:Brazil/East
BEGIN:STANDARD
DTSTART;VALUE=DATE-TIME:20190216T230000
TZNAME:BRT
TZOFFSETFROM:-0200
TZOFFSETTO:-0300
END:STANDARD
END:VTIMEZONE
END:VCALENDAR
