BEGIN:VCALENDAR
VERSION:2.0
PRODID:-//Plone.org//NONSGML plone.app.event//EN
X-WR-TIMEZONE:Brazil/East
BEGIN:VEVENT
SUMMARY:SESSÃO ESPECIAL EM HOMENAGEM AO DIA INTERNACIONAL DO ORGULHO LGBT
 .
DTSTART;TZID=Brazil/East;VALUE=DATE-TIME:20260626T190000
DTEND;TZID=Brazil/East;VALUE=DATE-TIME:20260626T220000
DTSTAMP;VALUE=DATE-TIME:20260419T201438Z
UID:065b583bf579417cb5344f6d9fd8f4cf@www.goiania.go.leg.br
CONTACT:VEREADOR FABRÍCIO ROSA
CREATED;VALUE=DATE-TIME:20260323T214756Z
LAST-MODIFIED;VALUE=DATE-TIME:20260323T214814Z
LOCATION:AUDITÓRIO JAIME CÂMARA
URL:https://www.goiania.go.leg.br/sala-de-imprensa/eventos/sessao-especial
 -em-homenagem-ao-dia-internacional-do-orgulho-lgbt
END:VEVENT
BEGIN:VTIMEZONE
TZID:Brazil/East
X-LIC-LOCATION:Brazil/East
BEGIN:STANDARD
DTSTART;VALUE=DATE-TIME:20260221T230000
TZNAME:BRT
TZOFFSETFROM:-0200
TZOFFSETTO:-0300
END:STANDARD
END:VTIMEZONE
END:VCALENDAR
