BEGIN:VCALENDAR
VERSION:2.0
PRODID:-//Plone.org//NONSGML plone.app.event//EN
X-WR-TIMEZONE:Brazil/East
BEGIN:VEVENT
SUMMARY:SESSÃO ESPECIAL EM HOMENAGEM AO DIA INTERNACIONAL DO EMPREENDEDOR
 ISMO FEMININO E ENTREGA DA MEDALHA MARIA CAMPOS BATISTA À SENHORA ALINE A
 PARECIDA RIBEIRO ALVES.
DTSTART;TZID=Brazil/East;VALUE=DATE-TIME:20251124T090000
DTEND;TZID=Brazil/East;VALUE=DATE-TIME:20251124T120000
DTSTAMP;VALUE=DATE-TIME:20260420T190340Z
UID:c07018a1555d411fa8d8eaefbaa0c131@www.goiania.go.leg.br
CONTACT:VEREADOR MAJOR VITOR HUGO
CREATED;VALUE=DATE-TIME:20250908T125027Z
LAST-MODIFIED;VALUE=DATE-TIME:20251001T142103Z
LOCATION:PLENÁRIO TRAJANO GUIMARÃES
URL:https://www.goiania.go.leg.br/sala-de-imprensa/eventos/sessao-especial
 -em-homenagem-ao-dia-internacional-do-empreendedorismo-feminino-da-marinha
END:VEVENT
BEGIN:VTIMEZONE
TZID:Brazil/East
X-LIC-LOCATION:Brazil/East
BEGIN:DAYLIGHT
DTSTART;VALUE=DATE-TIME:20251019T010000
TZNAME:BRST
TZOFFSETFROM:-0300
TZOFFSETTO:-0200
END:DAYLIGHT
END:VTIMEZONE
END:VCALENDAR
