BEGIN:VCALENDAR
VERSION:2.0
PRODID:-//Plone.org//NONSGML plone.app.event//EN
X-WR-TIMEZONE:Brazil/East
BEGIN:VEVENT
SUMMARY:SESSÃO ESPECIAL EM COMEMORAÇÃO AO DIA  DA MULHER.
DTSTART;TZID=Brazil/East;VALUE=DATE-TIME:20240306T170000
DTEND;TZID=Brazil/East;VALUE=DATE-TIME:20240306T190000
DTSTAMP;VALUE=DATE-TIME:20260424T070013Z
UID:5f3f521036474e88b7b6616b3b098223@www.goiania.go.leg.br
CONTACT:VEREADOR RONILSON REIS E LEANDRO SENA
CREATED;VALUE=DATE-TIME:20240205T153243Z
LAST-MODIFIED;VALUE=DATE-TIME:20240229T115814Z
LOCATION:PLENÁRIO TRAJANO GUIMARÃES
URL:https://www.goiania.go.leg.br/sala-de-imprensa/eventos/sessao-especial
 -em-homenagem-ao-dia-internacional-da-mulher-2
END:VEVENT
BEGIN:VTIMEZONE
TZID:Brazil/East
X-LIC-LOCATION:Brazil/East
BEGIN:STANDARD
DTSTART;VALUE=DATE-TIME:20240217T230000
TZNAME:BRT
TZOFFSETFROM:-0200
TZOFFSETTO:-0300
END:STANDARD
END:VTIMEZONE
END:VCALENDAR
