BEGIN:VCALENDAR
VERSION:2.0
PRODID:-//Plone.org//NONSGML plone.app.event//EN
X-WR-TIMEZONE:Brazil/East
BEGIN:VEVENT
SUMMARY:SESSÃO ESPECIAL EM HOMENAGEM AO DIA DOS VICENTINOS E ENTREGA DE T
 ÍTULO AO SENHOR GASPAR LUIZ MARTINS.
DTSTART;TZID=Brazil/East;VALUE=DATE-TIME:20180926T193000
DTEND;TZID=Brazil/East;VALUE=DATE-TIME:20180926T220000
DTSTAMP;VALUE=DATE-TIME:20260420T010446Z
UID:db0859307767475a841914fc1e8809f8@www.goiania.go.leg.br
CONTACT:VEREADOR ANDERSON SALES - BOKÃO
CREATED;VALUE=DATE-TIME:20180409T135126Z
LAST-MODIFIED;VALUE=DATE-TIME:20180918T123616Z
LOCATION:PLENÁRIO TRAJANO GUIMARÃES
URL:https://www.goiania.go.leg.br/sala-de-imprensa/eventos/sessao-especial
 -em-homenagem-ao-dia-dos-vicentinos
END:VEVENT
BEGIN:VTIMEZONE
TZID:Brazil/East
X-LIC-LOCATION:Brazil/East
BEGIN:STANDARD
DTSTART;VALUE=DATE-TIME:20180217T230000
TZNAME:BRT
TZOFFSETFROM:-0200
TZOFFSETTO:-0300
END:STANDARD
END:VTIMEZONE
END:VCALENDAR
