BEGIN:VCALENDAR
VERSION:2.0
PRODID:-//Plone.org//NONSGML plone.app.event//EN
X-WR-TIMEZONE:Brazil/East
BEGIN:VEVENT
SUMMARY:SESSÃO ESPECIAL EM HOMENAGEM AO DIA DOS GRUPOS VOLUNTÁRIOS DA AL
 EGRIA DIA DA FELICIDADE.
DTSTART;TZID=Brazil/East;VALUE=DATE-TIME:20200316T193000
DTEND;TZID=Brazil/East;VALUE=DATE-TIME:20200316T220000
DTSTAMP;VALUE=DATE-TIME:20260421T013848Z
UID:595d5261911f484088c97438b323f23d@www.goiania.go.leg.br
CONTACT:VEREADOR KLEYBE MORAIS
CREATED;VALUE=DATE-TIME:20200207T125819Z
LAST-MODIFIED;VALUE=DATE-TIME:20200207T125836Z
LOCATION:PLENÁRIO TRAJANO GUIMARÃES
URL:https://www.goiania.go.leg.br/sala-de-imprensa/eventos/sessao-especial
 -em-homenagem-ao-dia-dos-grupos-voluntarios-da-alegria-dia-da-felicidade
END:VEVENT
BEGIN:VTIMEZONE
TZID:Brazil/East
X-LIC-LOCATION:Brazil/East
BEGIN:STANDARD
DTSTART;VALUE=DATE-TIME:20200215T230000
TZNAME:BRT
TZOFFSETFROM:-0200
TZOFFSETTO:-0300
END:STANDARD
END:VTIMEZONE
END:VCALENDAR
