BEGIN:VCALENDAR
VERSION:2.0
PRODID:-//Plone.org//NONSGML plone.app.event//EN
X-WR-TIMEZONE:Brazil/East
BEGIN:VEVENT
SUMMARY:SESSÃO ESPECIAL EM HOMENAGEM AOS EDUCADORES DO FUTURO.
DTSTART;TZID=Brazil/East;VALUE=DATE-TIME:20191126T193000
DTEND;TZID=Brazil/East;VALUE=DATE-TIME:20191126T220000
DTSTAMP;VALUE=DATE-TIME:20260421T082627Z
UID:21f53f09fc5d438e86f77e999d859388@www.goiania.go.leg.br
CONTACT:VEREADORA DRA. CRISTINA LOPES AFONSO
CREATED;VALUE=DATE-TIME:20191003T123026Z
LAST-MODIFIED;VALUE=DATE-TIME:20191105T125403Z
LOCATION:PLENÁRIO TRAJANO GUIMARÃES
URL:https://www.goiania.go.leg.br/sala-de-imprensa/eventos/sessao-especial
 -em-homenagem-ao-dia-do-voluntariado-2
END:VEVENT
BEGIN:VTIMEZONE
TZID:Brazil/East
X-LIC-LOCATION:Brazil/East
BEGIN:DAYLIGHT
DTSTART;VALUE=DATE-TIME:20191020T010000
TZNAME:BRST
TZOFFSETFROM:-0300
TZOFFSETTO:-0200
END:DAYLIGHT
END:VTIMEZONE
END:VCALENDAR
