BEGIN:VCALENDAR
VERSION:2.0
PRODID:-//Plone.org//NONSGML plone.app.event//EN
X-WR-TIMEZONE:Brazil/East
BEGIN:VEVENT
SUMMARY:SESSÃO ESPECIAL EM HOMENAGEM AO DIA DO TURISMÓLOGO.
DTSTART;TZID=Brazil/East;VALUE=DATE-TIME:20240919T190000
DTEND;TZID=Brazil/East;VALUE=DATE-TIME:20240919T200000
DTSTAMP;VALUE=DATE-TIME:20260419T202609Z
UID:cba7995a40894f90a63cc2bce8c1ca14@www.goiania.go.leg.br
CONTACT:VEREADOR GEVERSON ABEL e SABRINA GARCEZ
CREATED;VALUE=DATE-TIME:20240904T130907Z
LAST-MODIFIED;VALUE=DATE-TIME:20240919T121120Z
LOCATION:PLENÁRIO TRAJANO GUIMARÃES
URL:https://www.goiania.go.leg.br/sala-de-imprensa/eventos/sessao-especial
 -em-homenagem-ao-dia-do-turismologo
END:VEVENT
BEGIN:VTIMEZONE
TZID:Brazil/East
X-LIC-LOCATION:Brazil/East
BEGIN:STANDARD
DTSTART;VALUE=DATE-TIME:20240217T230000
TZNAME:BRT
TZOFFSETFROM:-0200
TZOFFSETTO:-0300
END:STANDARD
END:VTIMEZONE
END:VCALENDAR
