BEGIN:VCALENDAR
VERSION:2.0
PRODID:-//Plone.org//NONSGML plone.app.event//EN
X-WR-TIMEZONE:Brazil/East
BEGIN:VEVENT
SUMMARY:SESSÃO ESPECIAL EM HOMENAGEM  AO DIA DO TEÓLOGO.
DTSTART;TZID=Brazil/East;VALUE=DATE-TIME:20211129T170000
DTEND;TZID=Brazil/East;VALUE=DATE-TIME:20211129T190000
DTSTAMP;VALUE=DATE-TIME:20260420T131718Z
UID:0ac31c1691694c8d8142a35f3b38d73b@www.goiania.go.leg.br
CONTACT:VEREADORA LÉIA KLEBIA
CREATED;VALUE=DATE-TIME:20210209T120150Z
LAST-MODIFIED;VALUE=DATE-TIME:20211013T120005Z
LOCATION:PLENÁRIO TRAJANO GUIMARÃES
URL:https://www.goiania.go.leg.br/sala-de-imprensa/eventos/sessao-especial
 -em-homenagem-ao-dia-do-teologo
END:VEVENT
BEGIN:VTIMEZONE
TZID:Brazil/East
X-LIC-LOCATION:Brazil/East
BEGIN:DAYLIGHT
DTSTART;VALUE=DATE-TIME:20211017T010000
TZNAME:BRST
TZOFFSETFROM:-0300
TZOFFSETTO:-0200
END:DAYLIGHT
END:VTIMEZONE
END:VCALENDAR
