BEGIN:VCALENDAR
VERSION:2.0
PRODID:-//Plone.org//NONSGML plone.app.event//EN
X-WR-TIMEZONE:Brazil/East
BEGIN:VEVENT
SUMMARY:SESSÃO ESPECIAL EM HOMENAGEM AO DIA DO SOLDADO DO EXÉRCITO BRASI
 LEIRO.
DTSTART;TZID=Brazil/East;VALUE=DATE-TIME:20190828T100000
DTEND;TZID=Brazil/East;VALUE=DATE-TIME:20190828T120000
DTSTAMP;VALUE=DATE-TIME:20260420T075415Z
UID:77f5f5c9c3374e6b920a0983517440f1@www.goiania.go.leg.br
CONTACT:VEREADOR ROGÉRIO CRUZ
CREATED;VALUE=DATE-TIME:20190605T125937Z
LAST-MODIFIED;VALUE=DATE-TIME:20190605T125949Z
LOCATION:PLENÁRIO TRAJANO GUIMARÃES
URL:https://www.goiania.go.leg.br/sala-de-imprensa/eventos/sessao-especial
 -em-homenagem-ao-dia-do-soldado-do-exercito-brasileiro-1
END:VEVENT
BEGIN:VTIMEZONE
TZID:Brazil/East
X-LIC-LOCATION:Brazil/East
BEGIN:STANDARD
DTSTART;VALUE=DATE-TIME:20190216T230000
TZNAME:BRT
TZOFFSETFROM:-0200
TZOFFSETTO:-0300
END:STANDARD
END:VTIMEZONE
END:VCALENDAR
