BEGIN:VCALENDAR
VERSION:2.0
PRODID:-//Plone.org//NONSGML plone.app.event//EN
X-WR-TIMEZONE:Brazil/East
BEGIN:VEVENT
SUMMARY:SESSÃO ESPECIAL EM HOMENAGEM AO DIA DO SOLDADO.
DTSTART;TZID=Brazil/East;VALUE=DATE-TIME:20230825T170000
DTEND;TZID=Brazil/East;VALUE=DATE-TIME:20230825T190000
DTSTAMP;VALUE=DATE-TIME:20260419T133144Z
UID:1d388f9ed03e40ad8987c7fd5383bcaa@www.goiania.go.leg.br
CONTACT:VEREADOR EDGAR DUARTE E ANSELMO PEREIRA
CREATED;VALUE=DATE-TIME:20230217T111655Z
LAST-MODIFIED;VALUE=DATE-TIME:20230410T211916Z
LOCATION:PLENÁRIO TRAJANO GUIMARÃES
URL:https://www.goiania.go.leg.br/sala-de-imprensa/eventos/sessao-especial
 -em-homenagem-ao-dia-do-soldado-1
END:VEVENT
BEGIN:VTIMEZONE
TZID:Brazil/East
X-LIC-LOCATION:Brazil/East
BEGIN:STANDARD
DTSTART;VALUE=DATE-TIME:20230225T230000
TZNAME:BRT
TZOFFSETFROM:-0200
TZOFFSETTO:-0300
END:STANDARD
END:VTIMEZONE
END:VCALENDAR
