BEGIN:VCALENDAR
VERSION:2.0
PRODID:-//Plone.org//NONSGML plone.app.event//EN
X-WR-TIMEZONE:Brazil/East
BEGIN:VEVENT
SUMMARY:SESSÃO ESPECIAL EM HOMENAGEM AO DIA DO SERVIDOR PÚBLICO.
DTSTART;TZID=Brazil/East;VALUE=DATE-TIME:20191030T193000
DTEND;TZID=Brazil/East;VALUE=DATE-TIME:20191030T220000
DTSTAMP;VALUE=DATE-TIME:20260422T070734Z
UID:4997a203bb31414f93527f33e15c6b41@www.goiania.go.leg.br
CONTACT:VEREADOR TIÃOZINHO PORTO
CREATED;VALUE=DATE-TIME:20190213T123957Z
LAST-MODIFIED;VALUE=DATE-TIME:20190213T124005Z
LOCATION:PLENÁRIO TRAJANO GUIMARÃES
URL:https://www.goiania.go.leg.br/sala-de-imprensa/eventos/sessao-especial
 -em-homenagem-ao-dia-do-servidor-publico
END:VEVENT
BEGIN:VTIMEZONE
TZID:Brazil/East
X-LIC-LOCATION:Brazil/East
BEGIN:DAYLIGHT
DTSTART;VALUE=DATE-TIME:20191020T010000
TZNAME:BRST
TZOFFSETFROM:-0300
TZOFFSETTO:-0200
END:DAYLIGHT
END:VTIMEZONE
END:VCALENDAR
