BEGIN:VCALENDAR
VERSION:2.0
PRODID:-//Plone.org//NONSGML plone.app.event//EN
X-WR-TIMEZONE:Brazil/East
BEGIN:VEVENT
SUMMARY:SESSÃO ESPECIAL EM HOMENAGEM AO DIA DO PEDREIRO.
DTSTART;TZID=Brazil/East;VALUE=DATE-TIME:20211208T170000
DTEND;TZID=Brazil/East;VALUE=DATE-TIME:20211208T190000
DTSTAMP;VALUE=DATE-TIME:20260419T104732Z
UID:0f9aeaba80c446f592394ca21b7fb990@www.goiania.go.leg.br
CONTACT:VEREADOR RONILSON REIS
CREATED;VALUE=DATE-TIME:20210923T112033Z
LAST-MODIFIED;VALUE=DATE-TIME:20210923T112054Z
LOCATION:PLENÁRIO TRAJANO GUIMARÃES
URL:https://www.goiania.go.leg.br/sala-de-imprensa/eventos/sessao-especial
 -em-homenagem-ao-dia-do-pedreiro
END:VEVENT
BEGIN:VTIMEZONE
TZID:Brazil/East
X-LIC-LOCATION:Brazil/East
BEGIN:DAYLIGHT
DTSTART;VALUE=DATE-TIME:20211017T010000
TZNAME:BRST
TZOFFSETFROM:-0300
TZOFFSETTO:-0200
END:DAYLIGHT
END:VTIMEZONE
END:VCALENDAR
