BEGIN:VCALENDAR
VERSION:2.0
PRODID:-//Plone.org//NONSGML plone.app.event//EN
X-WR-TIMEZONE:Brazil/East
BEGIN:VEVENT
SUMMARY:SESSÃO ESPECIAL EM HOMENAGEM  AO DIA DO PASTOR NOTÁVEL.
DTSTART;TZID=Brazil/East;VALUE=DATE-TIME:20230612T170000
DTEND;TZID=Brazil/East;VALUE=DATE-TIME:20230612T190000
DTSTAMP;VALUE=DATE-TIME:20260420T093307Z
UID:0216b2efde574469a4c132ceddb12ea8@www.goiania.go.leg.br
CONTACT:VEREADORA LÉIA KLEBIA
CREATED;VALUE=DATE-TIME:20230202T151858Z
LAST-MODIFIED;VALUE=DATE-TIME:20230530T122538Z
LOCATION:PLENÁRIO TRAJANO GUIMARÃES
URL:https://www.goiania.go.leg.br/sala-de-imprensa/eventos/sessao-especial
 -em-homenagem-ao-dia-do-pastor-notavel
END:VEVENT
BEGIN:VTIMEZONE
TZID:Brazil/East
X-LIC-LOCATION:Brazil/East
BEGIN:STANDARD
DTSTART;VALUE=DATE-TIME:20230225T230000
TZNAME:BRT
TZOFFSETFROM:-0200
TZOFFSETTO:-0300
END:STANDARD
END:VTIMEZONE
END:VCALENDAR
