BEGIN:VCALENDAR
VERSION:2.0
PRODID:-//Plone.org//NONSGML plone.app.event//EN
X-WR-TIMEZONE:Brazil/East
BEGIN:VEVENT
SUMMARY:SESSÃO ESPECIAL EM HOMENAGEM AO DIA DO PASTOR EVANGÉLICO.
DTSTART;TZID=Brazil/East;VALUE=DATE-TIME:20230614T170000
DTEND;TZID=Brazil/East;VALUE=DATE-TIME:20230614T190000
DTSTAMP;VALUE=DATE-TIME:20260420T021318Z
UID:77496c89a14640278721008eac25aa7f@www.goiania.go.leg.br
CONTACT:VEREADOPR EDGAR DUARTE - RONILSON REIS E GEVERSON ABEL
CREATED;VALUE=DATE-TIME:20230215T201149Z
LAST-MODIFIED;VALUE=DATE-TIME:20230530T121644Z
LOCATION:PLENÁRIO TRAJANO GUIMARÃES
URL:https://www.goiania.go.leg.br/sala-de-imprensa/eventos/sessao-especial
 -em-homenagem-ao-dia-do-pastor-evangelico
END:VEVENT
BEGIN:VTIMEZONE
TZID:Brazil/East
X-LIC-LOCATION:Brazil/East
BEGIN:STANDARD
DTSTART;VALUE=DATE-TIME:20230225T230000
TZNAME:BRT
TZOFFSETFROM:-0200
TZOFFSETTO:-0300
END:STANDARD
END:VTIMEZONE
END:VCALENDAR
