BEGIN:VCALENDAR
VERSION:2.0
PRODID:-//Plone.org//NONSGML plone.app.event//EN
X-WR-TIMEZONE:Brazil/East
BEGIN:VEVENT
SUMMARY:SESSÃO ESPECIAL EM HOMENAGEM AO DIA DO PASTOR EVANGÉLICO.
DTSTART;TZID=Brazil/East;VALUE=DATE-TIME:20240611T170000
DTEND;TZID=Brazil/East;VALUE=DATE-TIME:20240611T190000
DTSTAMP;VALUE=DATE-TIME:20260420T021323Z
UID:d7fa50c8ddcc442c95a8fc6800a7d70f@www.goiania.go.leg.br
CONTACT:VEREADOR RONILSON REIS E GEVERSON ABEL
CREATED;VALUE=DATE-TIME:20240119T121916Z
LAST-MODIFIED;VALUE=DATE-TIME:20240604T113959Z
LOCATION:PLENÁRIO TRAJANO GUIMARÃES
URL:https://www.goiania.go.leg.br/sala-de-imprensa/eventos/sessao-especial
 -em-homenagem-ao-dia-do-pastor-evangelico-1
END:VEVENT
BEGIN:VTIMEZONE
TZID:Brazil/East
X-LIC-LOCATION:Brazil/East
BEGIN:STANDARD
DTSTART;VALUE=DATE-TIME:20240217T230000
TZNAME:BRT
TZOFFSETFROM:-0200
TZOFFSETTO:-0300
END:STANDARD
END:VTIMEZONE
END:VCALENDAR
