BEGIN:VCALENDAR
VERSION:2.0
PRODID:-//Plone.org//NONSGML plone.app.event//EN
X-WR-TIMEZONE:Brazil/East
BEGIN:VEVENT
SUMMARY:SESSÃO ESPECIAL EM COMEMORAÇÃO AO DIA DO PASTOR EVANGÉLICO.
DTSTART;TZID=Brazil/East;VALUE=DATE-TIME:20220613T170000
DTEND;TZID=Brazil/East;VALUE=DATE-TIME:20220613T190000
DTSTAMP;VALUE=DATE-TIME:20260419T094059Z
UID:d1c9a03e616140eea82ad7f362d2a3aa@www.goiania.go.leg.br
CONTACT:VEREADOR DR. GIAN
CREATED;VALUE=DATE-TIME:20220114T130634Z
LAST-MODIFIED;VALUE=DATE-TIME:20220511T113222Z
LOCATION:PLENÁRIO TRAJANO GUIMARÃES
URL:https://www.goiania.go.leg.br/sala-de-imprensa/eventos/sessao-especial
 -em-homenagem-ao-dia-do-pastor-7
END:VEVENT
BEGIN:VTIMEZONE
TZID:Brazil/East
X-LIC-LOCATION:Brazil/East
BEGIN:STANDARD
DTSTART;VALUE=DATE-TIME:20220219T230000
TZNAME:BRT
TZOFFSETFROM:-0200
TZOFFSETTO:-0300
END:STANDARD
END:VTIMEZONE
END:VCALENDAR
