BEGIN:VCALENDAR
VERSION:2.0
PRODID:-//Plone.org//NONSGML plone.app.event//EN
X-WR-TIMEZONE:Brazil/East
BEGIN:VEVENT
SUMMARY:SESSÃO ESPECIAL EM HOMENAGEM AO DIA DO OFICIAL DA RESERVA DO EXÉ
 RCITO.
DTSTART;TZID=Brazil/East;VALUE=DATE-TIME:20211202T170000
DTEND;TZID=Brazil/East;VALUE=DATE-TIME:20211202T190000
DTSTAMP;VALUE=DATE-TIME:20260423T053156Z
UID:af5777391c0042c1baec8da2dff17e88@www.goiania.go.leg.br
CONTACT:VEREADOR ANSELMO PEREIRA
CREATED;VALUE=DATE-TIME:20211103T104645Z
LAST-MODIFIED;VALUE=DATE-TIME:20211103T104702Z
LOCATION:PLENÁRIO TRAJANO GUIMARÃES
URL:https://www.goiania.go.leg.br/sala-de-imprensa/eventos/sessao-especial
 -em-homenagem-ao-dia-do-oficial-da-reserva-do-exercito
END:VEVENT
BEGIN:VTIMEZONE
TZID:Brazil/East
X-LIC-LOCATION:Brazil/East
BEGIN:DAYLIGHT
DTSTART;VALUE=DATE-TIME:20211017T010000
TZNAME:BRST
TZOFFSETFROM:-0300
TZOFFSETTO:-0200
END:DAYLIGHT
END:VTIMEZONE
END:VCALENDAR
