BEGIN:VCALENDAR
VERSION:2.0
PRODID:-//Plone.org//NONSGML plone.app.event//EN
X-WR-TIMEZONE:Brazil/East
BEGIN:VEVENT
SUMMARY:SESSÃO ESPECIAL EM HOMENAGEM AO DIA DO OBREIRO UNIVERSAL.
DTSTART;TZID=Brazil/East;VALUE=DATE-TIME:20180824T193000
DTEND;TZID=Brazil/East;VALUE=DATE-TIME:20180824T220000
DTSTAMP;VALUE=DATE-TIME:20260420T024438Z
UID:36fe8f5b77054841a4868c1aa86fd0f0@www.goiania.go.leg.br
CONTACT:VEREADOR ROGÉRIO CRUZ
CREATED;VALUE=DATE-TIME:20180409T122011Z
LAST-MODIFIED;VALUE=DATE-TIME:20180604T150231Z
LOCATION:PLENÁRIO TRAJANO GUIMARÃES
URL:https://www.goiania.go.leg.br/sala-de-imprensa/eventos/sessao-especial
 -em-homenagem-ao-dia-do-obreiro-universal
END:VEVENT
BEGIN:VTIMEZONE
TZID:Brazil/East
X-LIC-LOCATION:Brazil/East
BEGIN:STANDARD
DTSTART;VALUE=DATE-TIME:20180217T230000
TZNAME:BRT
TZOFFSETFROM:-0200
TZOFFSETTO:-0300
END:STANDARD
END:VTIMEZONE
END:VCALENDAR
