BEGIN:VCALENDAR
VERSION:2.0
PRODID:-//Plone.org//NONSGML plone.app.event//EN
X-WR-TIMEZONE:Brazil/East
BEGIN:VEVENT
SUMMARY:SESSÃO SOLENE EM HOMENAGEM AO DIA DO MÉDICO  E OUTORGA DA MEDALH
 A DOUTOR AMYN JOSÉ DAHER.
DTSTART;TZID=Brazil/East;VALUE=DATE-TIME:20231017T170000
DTEND;TZID=Brazil/East;VALUE=DATE-TIME:20231017T190000
DTSTAMP;VALUE=DATE-TIME:20260421T084908Z
UID:986d7e00d9da4e818869f78f18791460@www.goiania.go.leg.br
CONTACT:VEREADOR DR. GIAN
CREATED;VALUE=DATE-TIME:20230207T143824Z
LAST-MODIFIED;VALUE=DATE-TIME:20230928T123810Z
LOCATION:PLENÁRIO TRAJANO GUIMARÃES
URL:https://www.goiania.go.leg.br/sala-de-imprensa/eventos/sessao-especial
 -em-homenagem-ao-dia-do-medico-2
END:VEVENT
BEGIN:VTIMEZONE
TZID:Brazil/East
X-LIC-LOCATION:Brazil/East
BEGIN:DAYLIGHT
DTSTART;VALUE=DATE-TIME:20231015T010000
TZNAME:BRST
TZOFFSETFROM:-0300
TZOFFSETTO:-0200
END:DAYLIGHT
END:VTIMEZONE
END:VCALENDAR
