BEGIN:VCALENDAR
VERSION:2.0
PRODID:-//Plone.org//NONSGML plone.app.event//EN
X-WR-TIMEZONE:Brazil/East
BEGIN:VEVENT
SUMMARY:SESSÃO ESPECIAL EM HOMENAGEM AO DIA DO MAÇOM.
DTSTART;TZID=Brazil/East;VALUE=DATE-TIME:20250814T190000
DTEND;TZID=Brazil/East;VALUE=DATE-TIME:20250814T220000
DTSTAMP;VALUE=DATE-TIME:20260421T193422Z
UID:705ff75a6e9a4e1e8aaace6b44b88c7f@www.goiania.go.leg.br
CONTACT:VEREADORA DANIELA DA GILKA
CREATED;VALUE=DATE-TIME:20250213T133359Z
LAST-MODIFIED;VALUE=DATE-TIME:20250213T133406Z
LOCATION:AUDITÓRIO JAIME CÂMARA
URL:https://www.goiania.go.leg.br/sala-de-imprensa/eventos/sessao-especial
 -em-homenagem-ao-dia-do-macom-2
END:VEVENT
BEGIN:VTIMEZONE
TZID:Brazil/East
X-LIC-LOCATION:Brazil/East
BEGIN:STANDARD
DTSTART;VALUE=DATE-TIME:20250215T230000
TZNAME:BRT
TZOFFSETFROM:-0200
TZOFFSETTO:-0300
END:STANDARD
END:VTIMEZONE
END:VCALENDAR
