BEGIN:VCALENDAR
VERSION:2.0
PRODID:-//Plone.org//NONSGML plone.app.event//EN
X-WR-TIMEZONE:Brazil/East
BEGIN:VEVENT
SUMMARY:SESSÃO ESPECIAL EM HOMENAGEM AO DIA DO INFLUENCIADOR DIGITAL.
DTSTART;TZID=Brazil/East;VALUE=DATE-TIME:20190321T193000
DTEND;TZID=Brazil/East;VALUE=DATE-TIME:20190321T220000
DTSTAMP;VALUE=DATE-TIME:20260420T093359Z
UID:ba34d9c7cb18410daff8fe1a001ade3a@www.goiania.go.leg.br
CONTACT:VEREADOR DR. PAULO DAHER
CREATED;VALUE=DATE-TIME:20190207T142606Z
LAST-MODIFIED;VALUE=DATE-TIME:20190207T142613Z
LOCATION:PLENÁRIO TRAJANO GUIMARÃES
URL:https://www.goiania.go.leg.br/sala-de-imprensa/eventos/sessao-especial
 -em-homenagem-ao-dia-do-influenciador-digital
END:VEVENT
BEGIN:VTIMEZONE
TZID:Brazil/East
X-LIC-LOCATION:Brazil/East
BEGIN:STANDARD
DTSTART;VALUE=DATE-TIME:20190216T230000
TZNAME:BRT
TZOFFSETFROM:-0200
TZOFFSETTO:-0300
END:STANDARD
END:VTIMEZONE
END:VCALENDAR
