BEGIN:VCALENDAR
VERSION:2.0
PRODID:-//Plone.org//NONSGML plone.app.event//EN
X-WR-TIMEZONE:Brazil/East
BEGIN:VEVENT
SUMMARY:SESSÃO ESPECIAL EM HOMENAGEM  AO DIA DO EMPREEMDEDORISMO.
DTSTART;TZID=Brazil/East;VALUE=DATE-TIME:20251003T190000
DTEND;TZID=Brazil/East;VALUE=DATE-TIME:20251003T220000
DTSTAMP;VALUE=DATE-TIME:20260419T174322Z
UID:eea431e0824f442281aaedb55c62b166@www.goiania.go.leg.br
CONTACT:VEREADOR GEVERSON ABEL
CREATED;VALUE=DATE-TIME:20250212T141549Z
LAST-MODIFIED;VALUE=DATE-TIME:20250212T141602Z
LOCATION:PLENÁRIO TRAJANO GUIMARÃES
URL:https://www.goiania.go.leg.br/sala-de-imprensa/eventos/sessao-especial
 -em-homenagem-ao-dia-do-empreemdedorismo
END:VEVENT
BEGIN:VTIMEZONE
TZID:Brazil/East
X-LIC-LOCATION:Brazil/East
BEGIN:STANDARD
DTSTART;VALUE=DATE-TIME:20250215T230000
TZNAME:BRT
TZOFFSETFROM:-0200
TZOFFSETTO:-0300
END:STANDARD
END:VTIMEZONE
END:VCALENDAR
