BEGIN:VCALENDAR
VERSION:2.0
PRODID:-//Plone.org//NONSGML plone.app.event//EN
X-WR-TIMEZONE:Brazil/East
BEGIN:VEVENT
SUMMARY:SESSÃO ESPECIAL EM HOMENAGEM AOS 59 ANOS DO COUNTRY CLUBE 
DTSTART;TZID=Brazil/East;VALUE=DATE-TIME:20190527T193000
DTEND;TZID=Brazil/East;VALUE=DATE-TIME:20190527T203000
DTSTAMP;VALUE=DATE-TIME:20260420T144156Z
UID:0b92268e0d604f7f8f5f5ee907f26214@www.goiania.go.leg.br
CONTACT:VEREADOR ÁLVARO DA UNIVERSO
CREATED;VALUE=DATE-TIME:20190221T113002Z
LAST-MODIFIED;VALUE=DATE-TIME:20190319T124045Z
LOCATION:PLENÁRIO TRAJANO GUIMARÃES
URL:https://www.goiania.go.leg.br/sala-de-imprensa/eventos/sessao-especial
 -em-homenagem-ao-dia-do-country-clube
END:VEVENT
BEGIN:VTIMEZONE
TZID:Brazil/East
X-LIC-LOCATION:Brazil/East
BEGIN:STANDARD
DTSTART;VALUE=DATE-TIME:20190216T230000
TZNAME:BRT
TZOFFSETFROM:-0200
TZOFFSETTO:-0300
END:STANDARD
END:VTIMEZONE
END:VCALENDAR
