BEGIN:VCALENDAR
VERSION:2.0
PRODID:-//Plone.org//NONSGML plone.app.event//EN
X-WR-TIMEZONE:Brazil/East
BEGIN:VEVENT
SUMMARY:SESSÃO ESPECIAL EM HOMENAGEM AO DIA DO CORRETOR DE IMÓVEIS.
DTSTART;TZID=Brazil/East;VALUE=DATE-TIME:20180828T090000
DTEND;TZID=Brazil/East;VALUE=DATE-TIME:20180828T120000
DTSTAMP;VALUE=DATE-TIME:20260421T030447Z
UID:bf1bb8a1c9ff40bb9d86b081bbc035ff@www.goiania.go.leg.br
CONTACT:VEREADOR ANSELMO PEREIRA
CREATED;VALUE=DATE-TIME:20180409T132307Z
LAST-MODIFIED;VALUE=DATE-TIME:20180409T132319Z
LOCATION:PLENÁRIO TRAJANO GUIMARÃES
URL:https://www.goiania.go.leg.br/sala-de-imprensa/eventos/sessao-especial
 -em-homenagem-ao-dia-do-corretor-de-imoveis
END:VEVENT
BEGIN:VTIMEZONE
TZID:Brazil/East
X-LIC-LOCATION:Brazil/East
BEGIN:STANDARD
DTSTART;VALUE=DATE-TIME:20180217T230000
TZNAME:BRT
TZOFFSETFROM:-0200
TZOFFSETTO:-0300
END:STANDARD
END:VTIMEZONE
END:VCALENDAR
