BEGIN:VCALENDAR
VERSION:2.0
PRODID:-//Plone.org//NONSGML plone.app.event//EN
X-WR-TIMEZONE:Brazil/East
BEGIN:VEVENT
SUMMARY:SESSÃO ESPECIAL EM HOMENAGEM AO DIA DO CORRETOR DE IMÓVEIS.
DTSTART;TZID=Brazil/East;VALUE=DATE-TIME:20230824T170000
DTEND;TZID=Brazil/East;VALUE=DATE-TIME:20230824T190000
DTSTAMP;VALUE=DATE-TIME:20260420T082222Z
UID:0758967db293493b91bd0f09bb4a35cb@www.goiania.go.leg.br
CONTACT:VEREADOR ANSELMO PEREIRA
CREATED;VALUE=DATE-TIME:20230207T121004Z
LAST-MODIFIED;VALUE=DATE-TIME:20230712T173928Z
LOCATION:PLENÁRIO TRAJANO GUIMARÃES
URL:https://www.goiania.go.leg.br/sala-de-imprensa/eventos/sessao-especial
 -em-homenagem-ao-dia-do-corretor-de-imoveis-2
END:VEVENT
BEGIN:VTIMEZONE
TZID:Brazil/East
X-LIC-LOCATION:Brazil/East
BEGIN:STANDARD
DTSTART;VALUE=DATE-TIME:20230225T230000
TZNAME:BRT
TZOFFSETFROM:-0200
TZOFFSETTO:-0300
END:STANDARD
END:VTIMEZONE
END:VCALENDAR
