BEGIN:VCALENDAR
VERSION:2.0
PRODID:-//Plone.org//NONSGML plone.app.event//EN
X-WR-TIMEZONE:Brazil/East
BEGIN:VEVENT
SUMMARY:SESSÃO ESPECIAL EM HOMENAGEM AO DIA DO CORREDORES DE RUA.
DTSTART;TZID=Brazil/East;VALUE=DATE-TIME:20240603T190000
DTEND;TZID=Brazil/East;VALUE=DATE-TIME:20240603T220000
DTSTAMP;VALUE=DATE-TIME:20260421T001506Z
UID:7e6dcdbcea48405db8bf829fdb288207@www.goiania.go.leg.br
CONTACT:VEREADOR BESSA E CABO SENNA
CREATED;VALUE=DATE-TIME:20240205T150336Z
LAST-MODIFIED;VALUE=DATE-TIME:20240523T111053Z
LOCATION:PLENÁRIO TRAJANO GUIMARÃES
URL:https://www.goiania.go.leg.br/sala-de-imprensa/eventos/sessao-especial
 -em-homenagem-ao-dia-do-corredores-de-rua
END:VEVENT
BEGIN:VTIMEZONE
TZID:Brazil/East
X-LIC-LOCATION:Brazil/East
BEGIN:STANDARD
DTSTART;VALUE=DATE-TIME:20240217T230000
TZNAME:BRT
TZOFFSETFROM:-0200
TZOFFSETTO:-0300
END:STANDARD
END:VTIMEZONE
END:VCALENDAR
