BEGIN:VCALENDAR
VERSION:2.0
PRODID:-//Plone.org//NONSGML plone.app.event//EN
X-WR-TIMEZONE:Brazil/East
BEGIN:VEVENT
SUMMARY:SESSÃO ESPECIAL EM HOMENAGEM AO DIA DO CATÓLICO.
DTSTART;TZID=Brazil/East;VALUE=DATE-TIME:20260629T190000
DTEND;TZID=Brazil/East;VALUE=DATE-TIME:20260629T220000
DTSTAMP;VALUE=DATE-TIME:20260419T190521Z
UID:c0f5a71a85bd40d2a8a9af93d4a08dcf@www.goiania.go.leg.br
CONTACT:VEREADOR DENÍCIO TRINDADE
CREATED;VALUE=DATE-TIME:20260202T135125Z
LAST-MODIFIED;VALUE=DATE-TIME:20260210T131203Z
LOCATION:PLENÁRIO TRAJANO GUIMARÃES
URL:https://www.goiania.go.leg.br/sala-de-imprensa/eventos/sessao-especial
 -em-homenagem-ao-dia-do-catolico
END:VEVENT
BEGIN:VTIMEZONE
TZID:Brazil/East
X-LIC-LOCATION:Brazil/East
BEGIN:STANDARD
DTSTART;VALUE=DATE-TIME:20260221T230000
TZNAME:BRT
TZOFFSETFROM:-0200
TZOFFSETTO:-0300
END:STANDARD
END:VTIMEZONE
END:VCALENDAR
