BEGIN:VCALENDAR
VERSION:2.0
PRODID:-//Plone.org//NONSGML plone.app.event//EN
X-WR-TIMEZONE:Brazil/East
BEGIN:VEVENT
SUMMARY:SESSÃO ESPECIAL EM HOMENAGEM AO DIA DO BLOGUEIRO.
DTSTART;TZID=Brazil/East;VALUE=DATE-TIME:20180320T193000
DTEND;TZID=Brazil/East;VALUE=DATE-TIME:20180320T220000
DTSTAMP;VALUE=DATE-TIME:20260421T112154Z
UID:5ee9b327b8974a4bb821ac706f46435b@www.goiania.go.leg.br
CONTACT:VEREADOR DR. PAULO DAHER
CREATED;VALUE=DATE-TIME:20180131T104416Z
LAST-MODIFIED;VALUE=DATE-TIME:20180131T104436Z
LOCATION:PLENÁRIO TRAJANO GUIMARÃES
URL:https://www.goiania.go.leg.br/sala-de-imprensa/eventos/sessao-especial
 -em-homenagem-ao-dia-do-blogueiro
END:VEVENT
BEGIN:VTIMEZONE
TZID:Brazil/East
X-LIC-LOCATION:Brazil/East
BEGIN:STANDARD
DTSTART;VALUE=DATE-TIME:20180217T230000
TZNAME:BRT
TZOFFSETFROM:-0200
TZOFFSETTO:-0300
END:STANDARD
END:VTIMEZONE
END:VCALENDAR
