BEGIN:VCALENDAR
VERSION:2.0
PRODID:-//Plone.org//NONSGML plone.app.event//EN
X-WR-TIMEZONE:Brazil/East
BEGIN:VEVENT
SUMMARY:SESSÃO ESPECIAL EM HOMENAGEM AO DIA DE LUTA DA PESSOA COM DEFICI
 ÊNCIA.
DTSTART;TZID=Brazil/East;VALUE=DATE-TIME:20180822T193000
DTEND;TZID=Brazil/East;VALUE=DATE-TIME:20180822T220000
DTSTAMP;VALUE=DATE-TIME:20260420T214221Z
UID:3899f303220e4afabcc0830acf083bbc@www.goiania.go.leg.br
CONTACT:VEREADORA DRA. CRISTINA LOPES AFONSO
CREATED;VALUE=DATE-TIME:20180409T122740Z
LAST-MODIFIED;VALUE=DATE-TIME:20180409T122750Z
LOCATION:PLENÁRIO TRAJANO GUIMARÃES
URL:https://www.goiania.go.leg.br/sala-de-imprensa/eventos/sessao-especial
 -em-homenagem-ao-dia-de-luta-da-pessoa-com-deficiencia
END:VEVENT
BEGIN:VTIMEZONE
TZID:Brazil/East
X-LIC-LOCATION:Brazil/East
BEGIN:STANDARD
DTSTART;VALUE=DATE-TIME:20180217T230000
TZNAME:BRT
TZOFFSETFROM:-0200
TZOFFSETTO:-0300
END:STANDARD
END:VTIMEZONE
END:VCALENDAR
