BEGIN:VCALENDAR
VERSION:2.0
PRODID:-//Plone.org//NONSGML plone.app.event//EN
X-WR-TIMEZONE:Brazil/East
BEGIN:VEVENT
SUMMARY:SESSÃO ESPECIAL EM HOMENAGEM  À DEFENSORIA  PÚBLICA DO ESTADO D
 E GOIÁS.
DTSTART;TZID=Brazil/East;VALUE=DATE-TIME:20240506T090000
DTEND;TZID=Brazil/East;VALUE=DATE-TIME:20240506T120000
DTSTAMP;VALUE=DATE-TIME:20260421T231714Z
UID:ff88e24b8e1549eb9ae06d8229cc5781@www.goiania.go.leg.br
CONTACT:VEREADOR WILLIAN VELOSO
CREATED;VALUE=DATE-TIME:20240119T115012Z
LAST-MODIFIED;VALUE=DATE-TIME:20240416T135809Z
LOCATION:PLENÁRIO TRAJANO GUIMARÃES
URL:https://www.goiania.go.leg.br/sala-de-imprensa/eventos/sessao-especial
 -em-homenagem-ao-dia-das-defensoras-e-defensores-publicos
END:VEVENT
BEGIN:VTIMEZONE
TZID:Brazil/East
X-LIC-LOCATION:Brazil/East
BEGIN:STANDARD
DTSTART;VALUE=DATE-TIME:20240217T230000
TZNAME:BRT
TZOFFSETFROM:-0200
TZOFFSETTO:-0300
END:STANDARD
END:VTIMEZONE
END:VCALENDAR
