BEGIN:VCALENDAR
VERSION:2.0
PRODID:-//Plone.org//NONSGML plone.app.event//EN
X-WR-TIMEZONE:Brazil/East
BEGIN:VEVENT
SUMMARY:SESSÃO ESPECIAL EM HOMENAGEM AO DIA DA MULHER EMPREENDEDORA.
DTSTART;TZID=Brazil/East;VALUE=DATE-TIME:20220711T170000
DTEND;TZID=Brazil/East;VALUE=DATE-TIME:20220711T190000
DTSTAMP;VALUE=DATE-TIME:20260421T013124Z
UID:f7a0e6bdca2a4b669bd8db3ba6766c90@www.goiania.go.leg.br
CONTACT:VEREADOR THIALU GUIOTTI
CREATED;VALUE=DATE-TIME:20220224T112058Z
LAST-MODIFIED;VALUE=DATE-TIME:20220224T112129Z
LOCATION:PLENÁRIO TRAJANO GUIMARÃES
URL:https://www.goiania.go.leg.br/sala-de-imprensa/eventos/sessao-especial
 -em-homenagem-ao-dia-da-mulher-empreendedora-1
END:VEVENT
BEGIN:VTIMEZONE
TZID:Brazil/East
X-LIC-LOCATION:Brazil/East
BEGIN:STANDARD
DTSTART;VALUE=DATE-TIME:20220219T230000
TZNAME:BRT
TZOFFSETFROM:-0200
TZOFFSETTO:-0300
END:STANDARD
END:VTIMEZONE
END:VCALENDAR
