BEGIN:VCALENDAR
VERSION:2.0
PRODID:-//Plone.org//NONSGML plone.app.event//EN
X-WR-TIMEZONE:Brazil/East
BEGIN:VEVENT
SUMMARY:SESSÃO ESPECIAL EM HOMENAGEM AO DIA DA LIDERANÇA RELIGIOSA.
DTSTART;TZID=Brazil/East;VALUE=DATE-TIME:20220926T090000
DTEND;TZID=Brazil/East;VALUE=DATE-TIME:20220926T120000
DTSTAMP;VALUE=DATE-TIME:20260420T075354Z
UID:fcb03660f5e941bd98a0887463962974@www.goiania.go.leg.br
CONTACT:VEREADOR RAPHAEL DA SAÚDE
CREATED;VALUE=DATE-TIME:20220207T131255Z
LAST-MODIFIED;VALUE=DATE-TIME:20220207T131302Z
LOCATION:PLENÁRIO TRAJANO GUIMARÃES
URL:https://www.goiania.go.leg.br/sala-de-imprensa/eventos/sessao-especial
 -em-homenagem-ao-dia-da-lideranca-religiosa
END:VEVENT
BEGIN:VTIMEZONE
TZID:Brazil/East
X-LIC-LOCATION:Brazil/East
BEGIN:STANDARD
DTSTART;VALUE=DATE-TIME:20220219T230000
TZNAME:BRT
TZOFFSETFROM:-0200
TZOFFSETTO:-0300
END:STANDARD
END:VTIMEZONE
END:VCALENDAR
