BEGIN:VCALENDAR
VERSION:2.0
PRODID:-//Plone.org//NONSGML plone.app.event//EN
X-WR-TIMEZONE:Brazil/East
BEGIN:VEVENT
SUMMARY:SESSÃO ESPECIAL EM HOMENAGEM AO DIA DA JUVENTUDE "JOVENS DE EXPRE
 SSÃO".
DTSTART;TZID=Brazil/East;VALUE=DATE-TIME:20170809T193000
DTEND;TZID=Brazil/East;VALUE=DATE-TIME:20170809T220000
DTSTAMP;VALUE=DATE-TIME:20260420T021153Z
UID:de29098e368d4399b7fc93b081829f55@www.goiania.go.leg.br
CONTACT:VEREADORA LÉIA KLEBIA
CREATED;VALUE=DATE-TIME:20171208T111313Z
LAST-MODIFIED;VALUE=DATE-TIME:20171208T112938Z
LOCATION:PLENÁRIO TRAJANO GUIMARÃES
URL:https://www.goiania.go.leg.br/sala-de-imprensa/eventos/sessao-especial
 -em-homenagem-ao-dia-da-juventude-jovens-de-expressao
END:VEVENT
BEGIN:VTIMEZONE
TZID:Brazil/East
X-LIC-LOCATION:Brazil/East
BEGIN:STANDARD
DTSTART;VALUE=DATE-TIME:20170218T230000
TZNAME:BRT
TZOFFSETFROM:-0200
TZOFFSETTO:-0300
END:STANDARD
END:VTIMEZONE
END:VCALENDAR
