BEGIN:VCALENDAR
VERSION:2.0
PRODID:-//Plone.org//NONSGML plone.app.event//EN
X-WR-TIMEZONE:Brazil/East
BEGIN:VEVENT
SUMMARY:SESSÃO SOLENE PARA A ENTREGA DA MEDALHA DOM TOMÁS BALDUÍNO.
DTSTART;TZID=Brazil/East;VALUE=DATE-TIME:20251105T190000
DTEND;TZID=Brazil/East;VALUE=DATE-TIME:20251105T220000
DTSTAMP;VALUE=DATE-TIME:20260421T081502Z
UID:7f636e90e21f478d83f203d910ed0ea8@www.goiania.go.leg.br
CONTACT:VEREADORA DANIELA DA GILKA
CREATED;VALUE=DATE-TIME:20250213T133833Z
LAST-MODIFIED;VALUE=DATE-TIME:20250909T123529Z
LOCATION:PLENÁRIO TRAJANO GUIMARÃES
URL:https://www.goiania.go.leg.br/sala-de-imprensa/eventos/sessao-especial
 -em-homenagem-ao-dia-da-conscientizacao-sobre-o-cancer-de-pulmao
END:VEVENT
BEGIN:VTIMEZONE
TZID:Brazil/East
X-LIC-LOCATION:Brazil/East
BEGIN:DAYLIGHT
DTSTART;VALUE=DATE-TIME:20251019T010000
TZNAME:BRST
TZOFFSETFROM:-0300
TZOFFSETTO:-0200
END:DAYLIGHT
END:VTIMEZONE
END:VCALENDAR
